BEGIN:VCALENDAR
VERSION:2.0
PRODID:-//Squarespace Inc/Squarespace 6//v6//EN
BEGIN:VEVENT
UID:59c7022e80bd5e5bb9cbfcf3@squarespace.com
DTSTAMP:20170924T005454Z
DTSTART:20171023T120000Z
DTEND:20171024T035900Z
SUMMARY:Closed for Labour Day
END:VEVENT
END:VCALENDAR
