BEGIN:VCALENDAR
VERSION:2.0
PRODID:-//Squarespace Inc/Squarespace 6//v6//EN
BEGIN:VEVENT
UID:59c701c42994ca741bdba90e@squarespace.com
DTSTAMP:20170924T005349Z
DTSTART:20171022T000000Z
DTEND:20171022T030000Z
SUMMARY:Paul S. Allen & Elle - Singer Songwriter's evening - Free Entry
END:VEVENT
END:VCALENDAR
