BEGIN:VCALENDAR
VERSION:2.0
PRODID:-//Squarespace Inc/Squarespace 6//v6//EN
BEGIN:VEVENT
UID:59c7018e2278e73c8272cc45@squarespace.com
DTSTAMP:20170924T005204Z
DTSTART:20171020T230000Z
DTEND:20171021T035900Z
SUMMARY:Dog With Two Tails 3rd Birthday :)!!!
END:VEVENT
END:VCALENDAR
