BEGIN:VCALENDAR
VERSION:2.0
PRODID:-//Squarespace Inc/Squarespace 6//v6//EN
BEGIN:VEVENT
UID:59c70147f43b55ff86bbbec1@squarespace.com
DTSTAMP:20170924T005109Z
DTSTART:20171020T000000Z
DTEND:20171020T035900Z
SUMMARY:Sam Manzanza with Tahu & The Takahes - $10 Door Sales
END:VEVENT
END:VCALENDAR
