BEGIN:VCALENDAR
VERSION:2.0
PRODID:-//Squarespace Inc/Squarespace 6//v6//EN
BEGIN:VEVENT
UID:59c6ffe0f14aa1916ad942b3@squarespace.com
DTSTAMP:20170924T004913Z
DTSTART:20171018T000000Z
DTEND:20171018T033000Z
SUMMARY:Ghana Grooves - Kofi Kunkpe\, Koffie Fuga & Kofi Shabba - $10 Entry
END:VEVENT
END:VCALENDAR
