BEGIN:VCALENDAR
VERSION:2.0
PRODID:-//Squarespace Inc/Squarespace 6//v6//EN
BEGIN:VEVENT
UID:59c6ff54268b96c839e459c6@squarespace.com
DTSTAMP:20170924T004400Z
DTSTART:20171015T000000Z
DTEND:20171015T033000Z
SUMMARY:Sugarcoated Bullets with support from Imperium & Bark Like A Dog - 
 Free Entry
END:VEVENT
END:VCALENDAR
