BEGIN:VCALENDAR
VERSION:2.0
PRODID:-//Squarespace Inc/Squarespace 6//v6//EN
BEGIN:VEVENT
UID:59c6fedabce17625eb79d13f@squarespace.com
DTSTAMP:20170924T004127Z
DTSTART:20171014T000000Z
DTEND:20171014T030000Z
SUMMARY:Jenny Mitchell - Free Entry
END:VEVENT
END:VCALENDAR
